BEGIN:VCALENDAR
VERSION:2.0
PRODID:-//TSC-IGW - ECPv6.15.20//NONSGML v1.0//EN
CALSCALE:GREGORIAN
METHOD:PUBLISH
X-WR-CALNAME:TSC-IGW
X-ORIGINAL-URL:https://tsc-igw.academy
X-WR-CALDESC:Veranstaltungen für TSC-IGW
REFRESH-INTERVAL;VALUE=DURATION:PT1H
X-Robots-Tag:noindex
X-PUBLISHED-TTL:PT1H
BEGIN:VTIMEZONE
TZID:Europe/Berlin
BEGIN:DAYLIGHT
TZOFFSETFROM:+0100
TZOFFSETTO:+0200
TZNAME:CEST
DTSTART:20250330T010000
END:DAYLIGHT
BEGIN:STANDARD
TZOFFSETFROM:+0200
TZOFFSETTO:+0100
TZNAME:CET
DTSTART:20251026T010000
END:STANDARD
BEGIN:DAYLIGHT
TZOFFSETFROM:+0100
TZOFFSETTO:+0200
TZNAME:CEST
DTSTART:20260329T010000
END:DAYLIGHT
BEGIN:STANDARD
TZOFFSETFROM:+0200
TZOFFSETTO:+0100
TZNAME:CET
DTSTART:20261025T010000
END:STANDARD
BEGIN:DAYLIGHT
TZOFFSETFROM:+0100
TZOFFSETTO:+0200
TZNAME:CEST
DTSTART:20270328T010000
END:DAYLIGHT
BEGIN:STANDARD
TZOFFSETFROM:+0200
TZOFFSETTO:+0100
TZNAME:CET
DTSTART:20271031T010000
END:STANDARD
END:VTIMEZONE
BEGIN:VEVENT
DTSTART;TZID=Europe/Berlin:20260425T090000
DTEND;TZID=Europe/Berlin:20260425T170000
DTSTAMP:20260425T123910
CREATED:20260206T091024Z
LAST-MODIFIED:20260211T141301Z
UID:10000007-1777107600-1777136400@tsc-igw.academy
SUMMARY:Songwriting – Workshop für Liederschreiber
DESCRIPTION:Welche Melodie schlummert in dir und will entdeckt werden? Wie schreibe ich ein eigenes Lied? Wie finde ich die passende Sprache für einen Liedtext und wie baut sich ein Lied auf? In diesem Kurs geht es um kreatives Songwriting. Johannes Falk gibt Songwritern – oder solchen\, die es gern werden wollen – hilfreiche Impulse zum Songschreiben und inspirierende Einblicke in sein eigenes kreatives Schreiben und Produzieren. \nReferent: Johannes Falk\, Sänger-Songwriter und TSC-Musikdozent \n  \nTermin \nvon 9 bis 17 Uhr\, zwischen 12 und 14 Uhr ist Mittagspause. \nMittagessen \nEin Mittagessen ist in der Teilnahmegebühr nicht inbegriffen. \nAuf dem Chrischona Berg kannst du dich in den Restaurants Waldrain oder Mandelzweig kostenpflichtig verpflegen. \nOder du bringst dein Mittagessen selbst mit und wärmst es per Mikrowelle auf. \nTeilnahmegebühr \nCHF 120.- pro Person und pro Seminar \nGruppenrabatt \n1 Person gratis pro 5 Teilnehmerinnen und Teilnehmer \n  \nAnmeldung Weiterbildungskurse
URL:https://tsc-igw.academy/events-new/umgang-mit-sterben-und-tod/
LOCATION:Chrischona Berg\, Chrischonarain 200\, Bettingen\, 4126\, Switzerland
CATEGORIES:Weiterbildungskurse,Weiterbildungskurse Musik
ATTACH;FMTTYPE=image/jpeg:https://tsc-igw.academy/wp-content/uploads/2026/02/tagesseminare26-songwriting-500px.jpg
END:VEVENT
END:VCALENDAR